BEGIN:VCALENDAR
VERSION:2.0
PRODID:-//Relationship Matters - ECPv6.15.20//NONSGML v1.0//EN
CALSCALE:GREGORIAN
METHOD:PUBLISH
X-ORIGINAL-URL:https://relationshipmatters.com.au
X-WR-CALDESC:Events for Relationship Matters
REFRESH-INTERVAL;VALUE=DURATION:PT1H
X-Robots-Tag:noindex
X-PUBLISHED-TTL:PT1H
BEGIN:VTIMEZONE
TZID:Australia/Melbourne
BEGIN:STANDARD
TZOFFSETFROM:+1100
TZOFFSETTO:+1000
TZNAME:AEST
DTSTART:20190406T160000
END:STANDARD
BEGIN:DAYLIGHT
TZOFFSETFROM:+1000
TZOFFSETTO:+1100
TZNAME:AEDT
DTSTART:20191005T160000
END:DAYLIGHT
BEGIN:STANDARD
TZOFFSETFROM:+1100
TZOFFSETTO:+1000
TZNAME:AEST
DTSTART:20200404T160000
END:STANDARD
BEGIN:DAYLIGHT
TZOFFSETFROM:+1000
TZOFFSETTO:+1100
TZNAME:AEDT
DTSTART:20201003T160000
END:DAYLIGHT
BEGIN:STANDARD
TZOFFSETFROM:+1100
TZOFFSETTO:+1000
TZNAME:AEST
DTSTART:20210403T160000
END:STANDARD
BEGIN:DAYLIGHT
TZOFFSETFROM:+1000
TZOFFSETTO:+1100
TZNAME:AEDT
DTSTART:20211002T160000
END:DAYLIGHT
BEGIN:STANDARD
TZOFFSETFROM:+1100
TZOFFSETTO:+1000
TZNAME:AEST
DTSTART:20220402T160000
END:STANDARD
BEGIN:DAYLIGHT
TZOFFSETFROM:+1000
TZOFFSETTO:+1100
TZNAME:AEDT
DTSTART:20221001T160000
END:DAYLIGHT
BEGIN:STANDARD
TZOFFSETFROM:+1100
TZOFFSETTO:+1000
TZNAME:AEST
DTSTART:20230401T160000
END:STANDARD
BEGIN:DAYLIGHT
TZOFFSETFROM:+1000
TZOFFSETTO:+1100
TZNAME:AEDT
DTSTART:20230930T160000
END:DAYLIGHT
END:VTIMEZONE
BEGIN:VEVENT
DTSTART;TZID=Australia/Melbourne:20221026T094500
DTEND;TZID=Australia/Melbourne:20221130T120000
DTSTAMP:20260425T204840
CREATED:20220919T070459Z
LAST-MODIFIED:20220919T070459Z
UID:10002071-1666777500-1669809600@relationshipmatters.com.au
SUMMARY:SEA Change - Anger Management for Women\, Online Program
DESCRIPTION:SEA Change – Anger Management for Women\, Online Program\nProgram Dates/Times: Wednesday\, 26 October 2022- Wednesday\, 30 November 2022 at 9:45am – 12:00pm \nProgram runs for six weeks online via Zoom. \nThe cost of the program is $250 (concession available). \nPlease note that all participants must complete a 60 minute intake session to be accepted into the program.
URL:https://relationshipmatters.com.au/event/sea-change-anger-management-women-melbourne-city-5-2-2-2-2-2-2-2-2-2-2-2-2-2-2-2/
LOCATION:Relationship Matters’ Online\, Australia
CATEGORIES:Featured,Relationship Courses,Sea Change Anger Management,Upcoming
GEO:-25.274398;133.775136
END:VEVENT
BEGIN:VEVENT
DTSTART;TZID=Australia/Melbourne:20220727T094500
DTEND;TZID=Australia/Melbourne:20220831T120000
DTSTAMP:20260425T204840
CREATED:20220531T011214Z
LAST-MODIFIED:20220705T021302Z
UID:10002036-1658915100-1661947200@relationshipmatters.com.au
SUMMARY:SEA Change - Anger Management for Women\, Online Program
DESCRIPTION:SEA Change – Anger Management for Women\, Online Program\nProgram Dates/Times: Wednesday\, 27 July 2022- Wednesday\, 31 August 2022 at 9:45am – 12:00pm \nProgram runs for six weeks online via Zoom. \nThe cost of the program is $250 (concession available). \nPlease note that all participants must complete a 30 minute screening call followed by a 90 minute intake session to be accepted into the program.
URL:https://relationshipmatters.com.au/event/sea-change-anger-management-women-melbourne-city-5-2-2-2-2-2-2-2-2-2-2-2-2-2/
LOCATION:Relationship Matters’ Online\, Australia
CATEGORIES:Featured,Relationship Courses,Sea Change Anger Management,Upcoming
GEO:-25.274398;133.775136
END:VEVENT
BEGIN:VEVENT
DTSTART;TZID=Australia/Melbourne:20220524T094500
DTEND;TZID=Australia/Melbourne:20220705T120000
DTSTAMP:20260425T204840
CREATED:20220411T232404Z
LAST-MODIFIED:20220503T055514Z
UID:10002024-1653385500-1657022400@relationshipmatters.com.au
SUMMARY:SEA Change - Anger Management for Women\, Online Program
DESCRIPTION:SEA Change – Anger Management for Women\, Online Program\nProgram Dates/Times: Tuesday\, 24 May 2022- Tuesday\, 5 July 2022 at 9:45am – 12:00pm (excluding: Tues\, 7 June 2022) \nProgram runs for six weeks online via Zoom. \nThe cost of the program is $250 (concession available). \nPlease note that all participants must complete a 30 minute screening call followed by a 90 minute intake session to be accepted into the program.
URL:https://relationshipmatters.com.au/event/sea-change-anger-management-women-melbourne-city-5-2-2-2-2-2-2-2-2-2-2-2-2/
LOCATION:Relationship Matters’ Online\, Australia
CATEGORIES:Featured,Relationship Courses,Sea Change Anger Management,Upcoming
GEO:-25.274398;133.775136
END:VEVENT
BEGIN:VEVENT
DTSTART;TZID=Australia/Melbourne:20220406T094500
DTEND;TZID=Australia/Melbourne:20220511T120000
DTSTAMP:20260425T204840
CREATED:20211220T222423Z
LAST-MODIFIED:20220324T233731Z
UID:10001995-1649238300-1652270400@relationshipmatters.com.au
SUMMARY:SEA Change - Anger Management for Women\, Online Program
DESCRIPTION:SEA Change – Anger Management for Women\, Online Program\nProgram Dates/Times: Wednesday\, 6 April 2022- Wednesday\, 11 May 2022 at 9:45am – 12:00pm \nProgram runs for six weeks online via Zoom. \nThe cost of the program is $250 (concession available). \nPlease note that all participants must complete a 30 minute screening call followed by a 90 minute intake session to be accepted into the program.
URL:https://relationshipmatters.com.au/event/sea-change-anger-management-women-melbourne-city-5-2-2-2-2-2-2-2-2-2-2-2/
LOCATION:Relationship Matters’ Online\, Australia
CATEGORIES:Featured,Relationship Courses,Sea Change Anger Management,Upcoming
GEO:-25.274398;133.775136
END:VEVENT
BEGIN:VEVENT
DTSTART;TZID=Australia/Melbourne:20220120T094500
DTEND;TZID=Australia/Melbourne:20220224T120000
DTSTAMP:20260425T204840
CREATED:20211103T050512Z
LAST-MODIFIED:20211217T023204Z
UID:10001981-1642671900-1645704000@relationshipmatters.com.au
SUMMARY:SEA Change - Anger Management for Women\, Online Program
DESCRIPTION:SEA Change – Anger Management for Women\, Online Program\nProgram Dates/Times: Thursday\, 20 January 2022- Thursday\, 24 February 2022 at 9:45am – 12:00pm \nProgram runs for six weeks online via Zoom. \nThe cost of the program is $250 (concession available). \nPlease note that all participants must complete a 30 minute screening call followed by a 90 minute intake session to be accepted into the program.
URL:https://relationshipmatters.com.au/event/sea-change-anger-management-women-melbourne-city-5-2-2-2-2-2-2-2-2-2-2/
LOCATION:Relationship Matters’ Online\, Australia
CATEGORIES:Featured,Relationship Courses,Sea Change Anger Management,Upcoming
GEO:-25.274398;133.775136
END:VEVENT
BEGIN:VEVENT
DTSTART;TZID=Australia/Melbourne:20211104T094500
DTEND;TZID=Australia/Melbourne:20211209T120000
DTSTAMP:20260425T204840
CREATED:20210830T225801Z
LAST-MODIFIED:20211021T010532Z
UID:10001965-1636019100-1639051200@relationshipmatters.com.au
SUMMARY:SEA Change - Anger Management for Women\, Online Program
DESCRIPTION:SEA Change – Anger Management for Women\, Online Program\nProgram Dates/Times: Thursday\, 4 November 2021 – Thursday\, 9 December 2021 at 9:45am – 12:00pm \nProgram runs for six weeks online via Zoom. \nThe cost of the program is $250 (concession available). \nPlease note that all participants must complete a 30 minute screening call followed by a 90 minute intake session to be accepted into the program.
URL:https://relationshipmatters.com.au/event/sea-change-anger-management-women-melbourne-city-5-2-2-2-2-2-2-2-2-2/
LOCATION:Relationship Matters’ Online\, Australia
CATEGORIES:Featured,Relationship Courses,Sea Change Anger Management,Upcoming
GEO:-25.274398;133.775136
END:VEVENT
BEGIN:VEVENT
DTSTART;TZID=Australia/Melbourne:20210902T094500
DTEND;TZID=Australia/Melbourne:20210902T120000
DTSTAMP:20260425T204840
CREATED:20210609T053519Z
LAST-MODIFIED:20210709T041916Z
UID:10001933-1630575900-1630584000@relationshipmatters.com.au
SUMMARY:SEA Change - Anger Management for Women\, Online Program
DESCRIPTION:
URL:https://relationshipmatters.com.au/event/sea-change-anger-management-women-melbourne-city-5-2-2-2-2-2-2-2-2/
LOCATION:Relationship Matters’ Online\, Australia
CATEGORIES:Featured,Relationship Courses,Sea Change Anger Management,Upcoming
GEO:-25.274398;133.775136
END:VEVENT
BEGIN:VEVENT
DTSTART;TZID=Australia/Melbourne:20210407T094500
DTEND;TZID=Australia/Melbourne:20210512T120000
DTSTAMP:20260425T204840
CREATED:20210202T025018Z
LAST-MODIFIED:20210304T061055Z
UID:10001873-1617788700-1620820800@relationshipmatters.com.au
SUMMARY:SEA Change - Anger Management for Women\, Online Program
DESCRIPTION:
URL:https://relationshipmatters.com.au/event/sea-change-anger-management-women-melbourne-city-5-2-2-2-2-2/
LOCATION:Relationship Matters’ Online\, Australia
CATEGORIES:Featured,Relationship Courses,Sea Change Anger Management,Upcoming
GEO:-25.274398;133.775136
END:VEVENT
BEGIN:VEVENT
DTSTART;TZID=Australia/Melbourne:20210120T094500
DTEND;TZID=Australia/Melbourne:20210224T120000
DTSTAMP:20260425T204840
CREATED:20201207T053813Z
LAST-MODIFIED:20201207T054038Z
UID:10001850-1611135900-1614168000@relationshipmatters.com.au
SUMMARY:SEA Change - Anger Management for Women\, Online Program
DESCRIPTION:
URL:https://relationshipmatters.com.au/event/sea-change-anger-management-women-melbourne-city-5-2-2-2-2/
LOCATION:Relationship Matters’ Online\, Australia
CATEGORIES:Featured,Relationship Courses,Sea Change Anger Management,Upcoming
GEO:-25.274398;133.775136
END:VEVENT
BEGIN:VEVENT
DTSTART;TZID=Australia/Melbourne:20201014T094500
DTEND;TZID=Australia/Melbourne:20201014T120000
DTSTAMP:20260425T204840
CREATED:20200714T043415Z
LAST-MODIFIED:20200930T003329Z
UID:10001773-1602668700-1602676800@relationshipmatters.com.au
SUMMARY:SEA Change - Anger Management for Women\, Online Program
DESCRIPTION:
URL:https://relationshipmatters.com.au/event/sea-change-anger-management-women-melbourne-city-5-2-2-2/
LOCATION:Relationship Matters’ Online\, Australia
CATEGORIES:Featured,Relationship Courses,Sea Change Anger Management,Upcoming
GEO:-25.274398;133.775136
END:VEVENT
BEGIN:VEVENT
DTSTART;TZID=Australia/Melbourne:20200715T094500
DTEND;TZID=Australia/Melbourne:20200715T120000
DTSTAMP:20260425T204840
CREATED:20200518T061133Z
LAST-MODIFIED:20200623T042841Z
UID:10001741-1594806300-1594814400@relationshipmatters.com.au
SUMMARY:SEA Change - Anger Management for Women\, Online Program
DESCRIPTION:
URL:https://relationshipmatters.com.au/event/sea-change-anger-management-women-melbourne-city-5-2-2/
LOCATION:Relationship Matters’ Online\, Australia
CATEGORIES:Featured,Relationship Courses,Sea Change Anger Management,Upcoming
GEO:-25.274398;133.775136
END:VEVENT
BEGIN:VEVENT
DTSTART;TZID=Australia/Melbourne:20200624T100000
DTEND;TZID=Australia/Melbourne:20200624T120000
DTSTAMP:20260425T204840
CREATED:20160824T021336Z
LAST-MODIFIED:20200318T054125Z
UID:10001687-1592992800-1593000000@relationshipmatters.com.au
SUMMARY:SEA Change - Anger Management for Women\, Frankston
DESCRIPTION:
URL:https://relationshipmatters.com.au/event/sea-change-anger-management-for-women-frankston/
LOCATION:Relationship Matters Frankston\, Level 1\, Suite 4-6\, 108-120 Young Street\, Frankston\, Victoria\, 3199\, Australia
CATEGORIES:Featured,Relationship Courses,Sea Change Anger Management,Upcoming
GEO:-38.1444097;145.1216712
X-APPLE-STRUCTURED-LOCATION;VALUE=URI;X-ADDRESS=Relationship Matters Frankston Level 1 Suite 4-6 108-120 Young Street Frankston Victoria 3199 Australia;X-APPLE-RADIUS=500;X-TITLE=Level 1\, Suite 4-6\, 108-120 Young Street:geo:145.1216712,-38.1444097
END:VEVENT
BEGIN:VEVENT
DTSTART;TZID=Australia/Melbourne:20200422T094500
DTEND;TZID=Australia/Melbourne:20200422T094500
DTSTAMP:20260425T204840
CREATED:20191126T215511Z
LAST-MODIFIED:20191203T213103Z
UID:10001690-1587548700-1587548700@relationshipmatters.com.au
SUMMARY:SEA Change - Anger Management for Women\, Melbourne City
DESCRIPTION:
URL:https://relationshipmatters.com.au/event/sea-change-anger-management-women-melbourne-city-5-2/
LOCATION:Relationship Matters Melbourne City (Head Office)\, Level 4\, 255 Bourke Street\, Melbourne\, VIC\, 3000\, Australia
CATEGORIES:Featured,Relationship Courses,Sea Change Anger Management,Upcoming
GEO:-37.8126038;144.9649287
X-APPLE-STRUCTURED-LOCATION;VALUE=URI;X-ADDRESS=Relationship Matters Melbourne City (Head Office) Level 4 255 Bourke Street Melbourne VIC 3000 Australia;X-APPLE-RADIUS=500;X-TITLE=Level 4\, 255 Bourke Street:geo:144.9649287,-37.8126038
END:VEVENT
END:VCALENDAR