BEGIN:VCALENDAR
VERSION:2.0
PRODID:-//Relationship Matters - ECPv6.15.20//NONSGML v1.0//EN
CALSCALE:GREGORIAN
METHOD:PUBLISH
X-WR-CALNAME:Relationship Matters
X-ORIGINAL-URL:https://relationshipmatters.com.au
X-WR-CALDESC:Events for Relationship Matters
REFRESH-INTERVAL;VALUE=DURATION:PT1H
X-Robots-Tag:noindex
X-PUBLISHED-TTL:PT1H
BEGIN:VTIMEZONE
TZID:Australia/Melbourne
BEGIN:STANDARD
TZOFFSETFROM:+1100
TZOFFSETTO:+1000
TZNAME:AEST
DTSTART:20250405T160000
END:STANDARD
BEGIN:DAYLIGHT
TZOFFSETFROM:+1000
TZOFFSETTO:+1100
TZNAME:AEDT
DTSTART:20251004T160000
END:DAYLIGHT
BEGIN:STANDARD
TZOFFSETFROM:+1100
TZOFFSETTO:+1000
TZNAME:AEST
DTSTART:20260404T160000
END:STANDARD
BEGIN:DAYLIGHT
TZOFFSETFROM:+1000
TZOFFSETTO:+1100
TZNAME:AEDT
DTSTART:20261003T160000
END:DAYLIGHT
BEGIN:STANDARD
TZOFFSETFROM:+1100
TZOFFSETTO:+1000
TZNAME:AEST
DTSTART:20270403T160000
END:STANDARD
BEGIN:DAYLIGHT
TZOFFSETFROM:+1000
TZOFFSETTO:+1100
TZNAME:AEDT
DTSTART:20271002T160000
END:DAYLIGHT
END:VTIMEZONE
BEGIN:VEVENT
DTSTART;TZID=Australia/Melbourne:20260623T123000
DTEND;TZID=Australia/Melbourne:20260804T143000
DTSTAMP:20260423T173058
CREATED:20260409T072042Z
LAST-MODIFIED:20260409T075521Z
UID:10002481-1782217800-1785853800@relationshipmatters.com.au
SUMMARY:SeaChange: Anger Management for Women - Online June 23 to August 4\, 2026
DESCRIPTION:SeaChange: Anger Management for Women is a 6-session group program held online. \n \nProgram Cost\n\nOne off fee of $250 for the six-week program \nConcession: $200 (for eligible concession card holders) \nIf you hold a concession card\, please phone our Customer Service team on 1300 543 396 to purchase a ticket for this program. \n\nPlease note the following\n\n•\nYou must complete an intake assessment by phone or video with one of our counsellors (once you have purchased a ticket\, we will contact you within 5 business days to book your intake appointment).\n\n•\nTo receive a completion certificate\, you must attend all six sessions (make-up sessions are not available). If you miss any sessions\, you will receive a participation certificate reflecting the number of sessions attended.\n\n•\nYou will not be able to continue if you miss two consecutive sessions.\n\n•\nRefunds are unable to be issued within 7 days of the start date of the program\n\nDates/Times\n\nSession 1: Tuesday\, 23 June 2026 (12:30pm – 2:30 pm AEST) \nSession 2: Tuesday\, 30 June 2026 (12:30pm – 2:30 pm AEST) \nSession 3: Tuesday\, 7 July 2026 (12:30pm – 2:30 pm AEST) \nSession 4: Tuesday\, 21 July 2026 (12:30pm – 2:30 pm AEST) \nSession 5: Tuesday\, 28 July 2026 (12:30pm – 2:30 pm AEST) \nSession 6: Tuesday\, 4 August 2026 (12:30pm – 2:30 pm AEST) \nSession times reflect Australian Eastern Standard Time. Click here to check your local time
URL:https://relationshipmatters.com.au/event/seachange-anger-management-for-women-online-june-23-to-august-4-2026/
LOCATION:Relationship Matters’ Online\, Australia
CATEGORIES:Anger Management,Sea Change Anger Management,Upcoming
ATTACH;FMTTYPE=image/jpeg:https://relationshipmatters.com.au/wp-content/uploads/2025/10/hero-56.jpg
GEO:-25.274398;133.775136
END:VEVENT
END:VCALENDAR